BEGIN:VCALENDAR
VERSION:2.0
PRODID:-//Let&#039;s Be Whole - ECPv6.15.20//NONSGML v1.0//EN
CALSCALE:GREGORIAN
METHOD:PUBLISH
X-WR-CALNAME:Let&#039;s Be Whole
X-ORIGINAL-URL:https://letsbewhole.com
X-WR-CALDESC:Events for Let&#039;s Be Whole
REFRESH-INTERVAL;VALUE=DURATION:PT1H
X-Robots-Tag:noindex
X-PUBLISHED-TTL:PT1H
BEGIN:VTIMEZONE
TZID:America/Los_Angeles
BEGIN:DAYLIGHT
TZOFFSETFROM:-0800
TZOFFSETTO:-0700
TZNAME:PDT
DTSTART:20250309T100000
END:DAYLIGHT
BEGIN:STANDARD
TZOFFSETFROM:-0700
TZOFFSETTO:-0800
TZNAME:PST
DTSTART:20251102T090000
END:STANDARD
BEGIN:DAYLIGHT
TZOFFSETFROM:-0800
TZOFFSETTO:-0700
TZNAME:PDT
DTSTART:20260308T100000
END:DAYLIGHT
BEGIN:STANDARD
TZOFFSETFROM:-0700
TZOFFSETTO:-0800
TZNAME:PST
DTSTART:20261101T090000
END:STANDARD
BEGIN:DAYLIGHT
TZOFFSETFROM:-0800
TZOFFSETTO:-0700
TZNAME:PDT
DTSTART:20270314T100000
END:DAYLIGHT
BEGIN:STANDARD
TZOFFSETFROM:-0700
TZOFFSETTO:-0800
TZNAME:PST
DTSTART:20271107T090000
END:STANDARD
END:VTIMEZONE
BEGIN:VEVENT
DTSTART;TZID=America/Los_Angeles:20260531T120000
DTEND;TZID=America/Los_Angeles:20260531T170000
DTSTAMP:20260420T140933
CREATED:20260420T210908Z
LAST-MODIFIED:20260420T210908Z
UID:6936-1780228800-1780246800@letsbewhole.com
SUMMARY:Alafia Sacred Music & Healing Fest
DESCRIPTION:Step into a day of sacred sound\, culture\, and collective healing—where music becomes medicine and community becomes the path to liberation. \nSponsored by Take Action LA and proudly supported by the Office of Councilwoman Heather Hutt (CD10)\, Sponsored by Take Action LA and CalMHSA\, Let’s Be Whole invites you to join us at the Leimert Park Artwalk\, LA Commons\, and our community partners for an immersive journey into creative healing. \n✨ Enter a sanctuary where art meets wellness. \nFrom the rhythm of African dance and tribal mask-making to our signature “Heritage Foods as Medicine” workshops\, we are reclaiming ancestral wisdom to nourish the modern soul. \nAt the heart of the experience\, the Aláfíà Healing Circle offers a guided\, sacred space to process community trauma\, build resilience\, and restore collective joy. \n🎶 Festival Highlights \n✨ Ancestral Soundscapes\nKora music\, traditional African drumming\, and meditative sound bowl therapy \n✨ Creative Expression\nAfrican dance\, poetry\, jewelry-making\, and mask artistry \n✨ Spiritual Wellness\nHerbal tea ceremony\, massage\, and mindful healing practices \n✨ Community Resources\nOn-site mental health support and wellness tools \n✨ Exclusive Giveaways\nFree gifts and local treasures throughout the day \n🎁 Claim Your Sacred Gift \nThe first 150 guests to register will receive a FREE African Healing Swag Bag featuring premium teas\, raw shea butter\, aromatic spices\, and essential oils. \n🌍 Let’s take action for our mental health and uplift our community through the medicine of the arts. \n📍 Location: Leimert Park Village on People St\n(4337 Degnan Blvd\, Los Angeles\, CA 90008) \n📅 Date & Time: May 31\, 2026 | 12:00 PM – 5:00 PM \n🎟 Admission: Free to the public. Register now to secure your healing kit.
URL:https://letsbewhole.com/event/alafia-sacred-music-healing-fest/
LOCATION:Leimert Park Plaza\, 4395 Leimert Blvd.\, Los Angeles\, CA\, 90008\, United States
CATEGORIES:Alafia Festival,Let's Be Whole Official Events
ATTACH;FMTTYPE=image/png:https://letsbewhole.com/wp-content/uploads/2026/04/1.png
ORGANIZER;CN="Let's Be Whole":MAILTO:connect@letsbewhole.com
END:VEVENT
END:VCALENDAR